BEGIN:VCALENDAR
VERSION:2.0
PRODID:-//Sam Hill - ECPv6.15.20//NONSGML v1.0//EN
CALSCALE:GREGORIAN
METHOD:PUBLISH
X-WR-CALNAME:Sam Hill
X-ORIGINAL-URL:https://www.samhilla2.com
X-WR-CALDESC:Events for Sam Hill
REFRESH-INTERVAL;VALUE=DURATION:PT1H
X-Robots-Tag:noindex
X-PUBLISHED-TTL:PT1H
BEGIN:VTIMEZONE
TZID:America/New_York
BEGIN:DAYLIGHT
TZOFFSETFROM:-0500
TZOFFSETTO:-0400
TZNAME:EDT
DTSTART:20250309T070000
END:DAYLIGHT
BEGIN:STANDARD
TZOFFSETFROM:-0400
TZOFFSETTO:-0500
TZNAME:EST
DTSTART:20251102T060000
END:STANDARD
BEGIN:DAYLIGHT
TZOFFSETFROM:-0500
TZOFFSETTO:-0400
TZNAME:EDT
DTSTART:20260308T070000
END:DAYLIGHT
BEGIN:STANDARD
TZOFFSETFROM:-0400
TZOFFSETTO:-0500
TZNAME:EST
DTSTART:20261101T060000
END:STANDARD
BEGIN:DAYLIGHT
TZOFFSETFROM:-0500
TZOFFSETTO:-0400
TZNAME:EDT
DTSTART:20270314T070000
END:DAYLIGHT
BEGIN:STANDARD
TZOFFSETFROM:-0400
TZOFFSETTO:-0500
TZNAME:EST
DTSTART:20271107T060000
END:STANDARD
END:VTIMEZONE
BEGIN:VEVENT
DTSTART;TZID=America/New_York:20260524T110000
DTEND;TZID=America/New_York:20260524T150000
DTSTAMP:20260422T224651
CREATED:20251106T202241Z
LAST-MODIFIED:20251106T202314Z
UID:10000602-1779620400-1779634800@www.samhilla2.com
SUMMARY:Brunch
DESCRIPTION:
URL:https://www.samhilla2.com/event/brunch/2026-05-24/
LOCATION:Sam Hill\, 5827 Jackson\, Ann Arbor\, MI\, 48103\, United States
END:VEVENT
BEGIN:VEVENT
DTSTART;TZID=America/New_York:20260525T110000
DTEND;TZID=America/New_York:20260525T210000
DTSTAMP:20260422T224651
CREATED:20251216T050830Z
LAST-MODIFIED:20251216T050830Z
UID:10004292-1779706800-1779742800@www.samhilla2.com
SUMMARY:Kids Eat 50% Off
DESCRIPTION:With purchase of an adult meal
URL:https://www.samhilla2.com/event/kids-eat-50-off/2026-05-25/
LOCATION:Sam Hill\, 5827 Jackson\, Ann Arbor\, MI\, 48103\, United States
END:VEVENT
BEGIN:VEVENT
DTSTART;TZID=America/New_York:20260525T150000
DTEND;TZID=America/New_York:20260525T180000
DTSTAMP:20260422T224651
CREATED:20251216T050459Z
LAST-MODIFIED:20251216T050507Z
UID:10002772-1779721200-1779732000@www.samhilla2.com
SUMMARY:Happy Hour
DESCRIPTION:
URL:https://www.samhilla2.com/event/happy-hour-2/2026-05-25/
LOCATION:Sam Hill\, 5827 Jackson\, Ann Arbor\, MI\, 48103\, United States
END:VEVENT
BEGIN:VEVENT
DTSTART;TZID=America/New_York:20260526T150000
DTEND;TZID=America/New_York:20260526T180000
DTSTAMP:20260422T224651
CREATED:20251216T050459Z
LAST-MODIFIED:20251216T050507Z
UID:10001497-1779807600-1779818400@www.samhilla2.com
SUMMARY:Happy Hour
DESCRIPTION:
URL:https://www.samhilla2.com/event/happy-hour-2/2026-05-26/
LOCATION:Sam Hill\, 5827 Jackson\, Ann Arbor\, MI\, 48103\, United States
END:VEVENT
BEGIN:VEVENT
DTSTART;TZID=America/New_York:20260526T180000
DTEND;TZID=America/New_York:20260526T200000
DTSTAMP:20260422T224651
CREATED:20251106T201422Z
LAST-MODIFIED:20251106T202414Z
UID:10000080-1779818400-1779825600@www.samhilla2.com
SUMMARY:Trivia Tuesday
DESCRIPTION:Hosted by Kenny Privett Productions \nThink you’re the smartest in the room? Prove it.  \nJoin the fun every Tuesday for brain-busting trivia\, delicious food\, and the shot at winning gift card prizes (and bragging rights).  \nBring your friends\, your appetite\, and your best guesses—because Kenny will stump you!
URL:https://www.samhilla2.com/event/trivia-tuesday/2026-05-26/
LOCATION:Sam Hill\, 5827 Jackson\, Ann Arbor\, MI\, 48103\, United States
END:VEVENT
BEGIN:VEVENT
DTSTART;TZID=America/New_York:20260528T110000
DTEND;TZID=America/New_York:20260528T210000
DTSTAMP:20260422T224651
CREATED:20251216T051047Z
LAST-MODIFIED:20251216T051047Z
UID:10004554-1779966000-1780002000@www.samhilla2.com
SUMMARY:$4 House Pints
DESCRIPTION:All Wolverine & Slow Coast drafts
URL:https://www.samhilla2.com/event/4-house-pints/2026-05-28/
LOCATION:Sam Hill\, 5827 Jackson\, Ann Arbor\, MI\, 48103\, United States
END:VEVENT
BEGIN:VEVENT
DTSTART;TZID=America/New_York:20260528T150000
DTEND;TZID=America/New_York:20260528T180000
DTSTAMP:20260422T224651
CREATED:20251216T050459Z
LAST-MODIFIED:20251216T050507Z
UID:10002773-1779980400-1779991200@www.samhilla2.com
SUMMARY:Happy Hour
DESCRIPTION:
URL:https://www.samhilla2.com/event/happy-hour-2/2026-05-28/
LOCATION:Sam Hill\, 5827 Jackson\, Ann Arbor\, MI\, 48103\, United States
END:VEVENT
BEGIN:VEVENT
DTSTART;TZID=America/New_York:20260529T150000
DTEND;TZID=America/New_York:20260529T180000
DTSTAMP:20260422T224651
CREATED:20251216T050459Z
LAST-MODIFIED:20251216T050507Z
UID:10002774-1780066800-1780077600@www.samhilla2.com
SUMMARY:Happy Hour
DESCRIPTION:
URL:https://www.samhilla2.com/event/happy-hour-2/2026-05-29/
LOCATION:Sam Hill\, 5827 Jackson\, Ann Arbor\, MI\, 48103\, United States
END:VEVENT
BEGIN:VEVENT
DTSTART;TZID=America/New_York:20260530T110000
DTEND;TZID=America/New_York:20260530T150000
DTSTAMP:20260422T224651
CREATED:20251106T202438Z
LAST-MODIFIED:20251106T202438Z
UID:10001125-1780138800-1780153200@www.samhilla2.com
SUMMARY:Brunch
DESCRIPTION:
URL:https://www.samhilla2.com/event/brunch-2/2026-05-30/
LOCATION:Sam Hill\, 5827 Jackson\, Ann Arbor\, MI\, 48103\, United States
END:VEVENT
BEGIN:VEVENT
DTSTART;TZID=America/New_York:20260531T110000
DTEND;TZID=America/New_York:20260531T150000
DTSTAMP:20260422T224651
CREATED:20251106T202241Z
LAST-MODIFIED:20251106T202314Z
UID:10000603-1780225200-1780239600@www.samhilla2.com
SUMMARY:Brunch
DESCRIPTION:
URL:https://www.samhilla2.com/event/brunch/2026-05-31/
LOCATION:Sam Hill\, 5827 Jackson\, Ann Arbor\, MI\, 48103\, United States
END:VEVENT
BEGIN:VEVENT
DTSTART;TZID=America/New_York:20260601T110000
DTEND;TZID=America/New_York:20260601T210000
DTSTAMP:20260422T224651
CREATED:20251216T050830Z
LAST-MODIFIED:20251216T050830Z
UID:10004293-1780311600-1780347600@www.samhilla2.com
SUMMARY:Kids Eat 50% Off
DESCRIPTION:With purchase of an adult meal
URL:https://www.samhilla2.com/event/kids-eat-50-off/2026-06-01/
LOCATION:Sam Hill\, 5827 Jackson\, Ann Arbor\, MI\, 48103\, United States
END:VEVENT
BEGIN:VEVENT
DTSTART;TZID=America/New_York:20260601T150000
DTEND;TZID=America/New_York:20260601T180000
DTSTAMP:20260422T224651
CREATED:20251216T050459Z
LAST-MODIFIED:20251216T050507Z
UID:10002775-1780326000-1780336800@www.samhilla2.com
SUMMARY:Happy Hour
DESCRIPTION:
URL:https://www.samhilla2.com/event/happy-hour-2/2026-06-01/
LOCATION:Sam Hill\, 5827 Jackson\, Ann Arbor\, MI\, 48103\, United States
END:VEVENT
BEGIN:VEVENT
DTSTART;TZID=America/New_York:20260602T150000
DTEND;TZID=America/New_York:20260602T180000
DTSTAMP:20260422T224651
CREATED:20251216T050459Z
LAST-MODIFIED:20251216T050507Z
UID:10001502-1780412400-1780423200@www.samhilla2.com
SUMMARY:Happy Hour
DESCRIPTION:
URL:https://www.samhilla2.com/event/happy-hour-2/2026-06-02/
LOCATION:Sam Hill\, 5827 Jackson\, Ann Arbor\, MI\, 48103\, United States
END:VEVENT
BEGIN:VEVENT
DTSTART;TZID=America/New_York:20260602T180000
DTEND;TZID=America/New_York:20260602T200000
DTSTAMP:20260422T224651
CREATED:20251106T201422Z
LAST-MODIFIED:20251106T202414Z
UID:10000081-1780423200-1780430400@www.samhilla2.com
SUMMARY:Trivia Tuesday
DESCRIPTION:Hosted by Kenny Privett Productions \nThink you’re the smartest in the room? Prove it.  \nJoin the fun every Tuesday for brain-busting trivia\, delicious food\, and the shot at winning gift card prizes (and bragging rights).  \nBring your friends\, your appetite\, and your best guesses—because Kenny will stump you!
URL:https://www.samhilla2.com/event/trivia-tuesday/2026-06-02/
LOCATION:Sam Hill\, 5827 Jackson\, Ann Arbor\, MI\, 48103\, United States
END:VEVENT
BEGIN:VEVENT
DTSTART;TZID=America/New_York:20260604T110000
DTEND;TZID=America/New_York:20260604T210000
DTSTAMP:20260422T224651
CREATED:20251216T051047Z
LAST-MODIFIED:20251216T051047Z
UID:10004555-1780570800-1780606800@www.samhilla2.com
SUMMARY:$4 House Pints
DESCRIPTION:All Wolverine & Slow Coast drafts
URL:https://www.samhilla2.com/event/4-house-pints/2026-06-04/
LOCATION:Sam Hill\, 5827 Jackson\, Ann Arbor\, MI\, 48103\, United States
END:VEVENT
BEGIN:VEVENT
DTSTART;TZID=America/New_York:20260604T150000
DTEND;TZID=America/New_York:20260604T180000
DTSTAMP:20260422T224651
CREATED:20251216T050459Z
LAST-MODIFIED:20251216T050507Z
UID:10002776-1780585200-1780596000@www.samhilla2.com
SUMMARY:Happy Hour
DESCRIPTION:
URL:https://www.samhilla2.com/event/happy-hour-2/2026-06-04/
LOCATION:Sam Hill\, 5827 Jackson\, Ann Arbor\, MI\, 48103\, United States
END:VEVENT
BEGIN:VEVENT
DTSTART;TZID=America/New_York:20260605T150000
DTEND;TZID=America/New_York:20260605T180000
DTSTAMP:20260422T224651
CREATED:20251216T050459Z
LAST-MODIFIED:20251216T050507Z
UID:10002777-1780671600-1780682400@www.samhilla2.com
SUMMARY:Happy Hour
DESCRIPTION:
URL:https://www.samhilla2.com/event/happy-hour-2/2026-06-05/
LOCATION:Sam Hill\, 5827 Jackson\, Ann Arbor\, MI\, 48103\, United States
END:VEVENT
BEGIN:VEVENT
DTSTART;TZID=America/New_York:20260606T110000
DTEND;TZID=America/New_York:20260606T150000
DTSTAMP:20260422T224651
CREATED:20251106T202438Z
LAST-MODIFIED:20251106T202438Z
UID:10001126-1780743600-1780758000@www.samhilla2.com
SUMMARY:Brunch
DESCRIPTION:
URL:https://www.samhilla2.com/event/brunch-2/2026-06-06/
LOCATION:Sam Hill\, 5827 Jackson\, Ann Arbor\, MI\, 48103\, United States
END:VEVENT
BEGIN:VEVENT
DTSTART;TZID=America/New_York:20260607T110000
DTEND;TZID=America/New_York:20260607T150000
DTSTAMP:20260422T224651
CREATED:20251106T202241Z
LAST-MODIFIED:20251106T202314Z
UID:10000604-1780830000-1780844400@www.samhilla2.com
SUMMARY:Brunch
DESCRIPTION:
URL:https://www.samhilla2.com/event/brunch/2026-06-07/
LOCATION:Sam Hill\, 5827 Jackson\, Ann Arbor\, MI\, 48103\, United States
END:VEVENT
BEGIN:VEVENT
DTSTART;TZID=America/New_York:20260608T110000
DTEND;TZID=America/New_York:20260608T210000
DTSTAMP:20260422T224651
CREATED:20251216T050830Z
LAST-MODIFIED:20251216T050830Z
UID:10004294-1780916400-1780952400@www.samhilla2.com
SUMMARY:Kids Eat 50% Off
DESCRIPTION:With purchase of an adult meal
URL:https://www.samhilla2.com/event/kids-eat-50-off/2026-06-08/
LOCATION:Sam Hill\, 5827 Jackson\, Ann Arbor\, MI\, 48103\, United States
END:VEVENT
BEGIN:VEVENT
DTSTART;TZID=America/New_York:20260608T150000
DTEND;TZID=America/New_York:20260608T180000
DTSTAMP:20260422T224651
CREATED:20251216T050459Z
LAST-MODIFIED:20251216T050507Z
UID:10002778-1780930800-1780941600@www.samhilla2.com
SUMMARY:Happy Hour
DESCRIPTION:
URL:https://www.samhilla2.com/event/happy-hour-2/2026-06-08/
LOCATION:Sam Hill\, 5827 Jackson\, Ann Arbor\, MI\, 48103\, United States
END:VEVENT
BEGIN:VEVENT
DTSTART;TZID=America/New_York:20260609T150000
DTEND;TZID=America/New_York:20260609T180000
DTSTAMP:20260422T224651
CREATED:20251216T050459Z
LAST-MODIFIED:20251216T050507Z
UID:10001507-1781017200-1781028000@www.samhilla2.com
SUMMARY:Happy Hour
DESCRIPTION:
URL:https://www.samhilla2.com/event/happy-hour-2/2026-06-09/
LOCATION:Sam Hill\, 5827 Jackson\, Ann Arbor\, MI\, 48103\, United States
END:VEVENT
BEGIN:VEVENT
DTSTART;TZID=America/New_York:20260609T180000
DTEND;TZID=America/New_York:20260609T200000
DTSTAMP:20260422T224651
CREATED:20251106T201422Z
LAST-MODIFIED:20251106T202414Z
UID:10000082-1781028000-1781035200@www.samhilla2.com
SUMMARY:Trivia Tuesday
DESCRIPTION:Hosted by Kenny Privett Productions \nThink you’re the smartest in the room? Prove it.  \nJoin the fun every Tuesday for brain-busting trivia\, delicious food\, and the shot at winning gift card prizes (and bragging rights).  \nBring your friends\, your appetite\, and your best guesses—because Kenny will stump you!
URL:https://www.samhilla2.com/event/trivia-tuesday/2026-06-09/
LOCATION:Sam Hill\, 5827 Jackson\, Ann Arbor\, MI\, 48103\, United States
END:VEVENT
BEGIN:VEVENT
DTSTART;TZID=America/New_York:20260611T110000
DTEND;TZID=America/New_York:20260611T210000
DTSTAMP:20260422T224651
CREATED:20251216T051047Z
LAST-MODIFIED:20251216T051047Z
UID:10004556-1781175600-1781211600@www.samhilla2.com
SUMMARY:$4 House Pints
DESCRIPTION:All Wolverine & Slow Coast drafts
URL:https://www.samhilla2.com/event/4-house-pints/2026-06-11/
LOCATION:Sam Hill\, 5827 Jackson\, Ann Arbor\, MI\, 48103\, United States
END:VEVENT
BEGIN:VEVENT
DTSTART;TZID=America/New_York:20260611T150000
DTEND;TZID=America/New_York:20260611T180000
DTSTAMP:20260422T224651
CREATED:20251216T050459Z
LAST-MODIFIED:20251216T050507Z
UID:10002779-1781190000-1781200800@www.samhilla2.com
SUMMARY:Happy Hour
DESCRIPTION:
URL:https://www.samhilla2.com/event/happy-hour-2/2026-06-11/
LOCATION:Sam Hill\, 5827 Jackson\, Ann Arbor\, MI\, 48103\, United States
END:VEVENT
BEGIN:VEVENT
DTSTART;TZID=America/New_York:20260612T150000
DTEND;TZID=America/New_York:20260612T180000
DTSTAMP:20260422T224651
CREATED:20251216T050459Z
LAST-MODIFIED:20251216T050507Z
UID:10002780-1781276400-1781287200@www.samhilla2.com
SUMMARY:Happy Hour
DESCRIPTION:
URL:https://www.samhilla2.com/event/happy-hour-2/2026-06-12/
LOCATION:Sam Hill\, 5827 Jackson\, Ann Arbor\, MI\, 48103\, United States
END:VEVENT
BEGIN:VEVENT
DTSTART;TZID=America/New_York:20260613T110000
DTEND;TZID=America/New_York:20260613T150000
DTSTAMP:20260422T224651
CREATED:20251106T202438Z
LAST-MODIFIED:20251106T202438Z
UID:10001127-1781348400-1781362800@www.samhilla2.com
SUMMARY:Brunch
DESCRIPTION:
URL:https://www.samhilla2.com/event/brunch-2/2026-06-13/
LOCATION:Sam Hill\, 5827 Jackson\, Ann Arbor\, MI\, 48103\, United States
END:VEVENT
BEGIN:VEVENT
DTSTART;TZID=America/New_York:20260614T110000
DTEND;TZID=America/New_York:20260614T150000
DTSTAMP:20260422T224651
CREATED:20251106T202241Z
LAST-MODIFIED:20251106T202314Z
UID:10000605-1781434800-1781449200@www.samhilla2.com
SUMMARY:Brunch
DESCRIPTION:
URL:https://www.samhilla2.com/event/brunch/2026-06-14/
LOCATION:Sam Hill\, 5827 Jackson\, Ann Arbor\, MI\, 48103\, United States
END:VEVENT
BEGIN:VEVENT
DTSTART;TZID=America/New_York:20260615T110000
DTEND;TZID=America/New_York:20260615T210000
DTSTAMP:20260422T224651
CREATED:20251216T050830Z
LAST-MODIFIED:20251216T050830Z
UID:10004295-1781521200-1781557200@www.samhilla2.com
SUMMARY:Kids Eat 50% Off
DESCRIPTION:With purchase of an adult meal
URL:https://www.samhilla2.com/event/kids-eat-50-off/2026-06-15/
LOCATION:Sam Hill\, 5827 Jackson\, Ann Arbor\, MI\, 48103\, United States
END:VEVENT
BEGIN:VEVENT
DTSTART;TZID=America/New_York:20260615T150000
DTEND;TZID=America/New_York:20260615T180000
DTSTAMP:20260422T224651
CREATED:20251216T050459Z
LAST-MODIFIED:20251216T050507Z
UID:10002781-1781535600-1781546400@www.samhilla2.com
SUMMARY:Happy Hour
DESCRIPTION:
URL:https://www.samhilla2.com/event/happy-hour-2/2026-06-15/
LOCATION:Sam Hill\, 5827 Jackson\, Ann Arbor\, MI\, 48103\, United States
END:VEVENT
END:VCALENDAR