BEGIN:VCALENDAR
VERSION:2.0
PRODID:-//Sam Hill - ECPv6.15.20//NONSGML v1.0//EN
CALSCALE:GREGORIAN
METHOD:PUBLISH
X-ORIGINAL-URL:https://www.samhilla2.com
X-WR-CALDESC:Events for Sam Hill
REFRESH-INTERVAL;VALUE=DURATION:PT1H
X-Robots-Tag:noindex
X-PUBLISHED-TTL:PT1H
BEGIN:VTIMEZONE
TZID:America/New_York
BEGIN:DAYLIGHT
TZOFFSETFROM:-0500
TZOFFSETTO:-0400
TZNAME:EDT
DTSTART:20250309T070000
END:DAYLIGHT
BEGIN:STANDARD
TZOFFSETFROM:-0400
TZOFFSETTO:-0500
TZNAME:EST
DTSTART:20251102T060000
END:STANDARD
BEGIN:DAYLIGHT
TZOFFSETFROM:-0500
TZOFFSETTO:-0400
TZNAME:EDT
DTSTART:20260308T070000
END:DAYLIGHT
BEGIN:STANDARD
TZOFFSETFROM:-0400
TZOFFSETTO:-0500
TZNAME:EST
DTSTART:20261101T060000
END:STANDARD
BEGIN:DAYLIGHT
TZOFFSETFROM:-0500
TZOFFSETTO:-0400
TZNAME:EDT
DTSTART:20270314T070000
END:DAYLIGHT
BEGIN:STANDARD
TZOFFSETFROM:-0400
TZOFFSETTO:-0500
TZNAME:EST
DTSTART:20271107T060000
END:STANDARD
END:VTIMEZONE
BEGIN:VEVENT
DTSTART;TZID=America/New_York:20260430T150000
DTEND;TZID=America/New_York:20260430T180000
DTSTAMP:20260422T174146
CREATED:20251216T050459Z
LAST-MODIFIED:20251216T050507Z
UID:10002761-1777561200-1777572000@www.samhilla2.com
SUMMARY:Happy Hour
DESCRIPTION:
URL:https://www.samhilla2.com/event/happy-hour-2/2026-04-30/
LOCATION:Sam Hill\, 5827 Jackson\, Ann Arbor\, MI\, 48103\, United States
END:VEVENT
BEGIN:VEVENT
DTSTART;TZID=America/New_York:20260501T150000
DTEND;TZID=America/New_York:20260501T180000
DTSTAMP:20260422T174146
CREATED:20251216T050459Z
LAST-MODIFIED:20251216T050507Z
UID:10002762-1777647600-1777658400@www.samhilla2.com
SUMMARY:Happy Hour
DESCRIPTION:
URL:https://www.samhilla2.com/event/happy-hour-2/2026-05-01/
LOCATION:Sam Hill\, 5827 Jackson\, Ann Arbor\, MI\, 48103\, United States
END:VEVENT
BEGIN:VEVENT
DTSTART;TZID=America/New_York:20260502T110000
DTEND;TZID=America/New_York:20260502T150000
DTSTAMP:20260422T174146
CREATED:20251106T202438Z
LAST-MODIFIED:20251106T202438Z
UID:10001121-1777719600-1777734000@www.samhilla2.com
SUMMARY:Brunch
DESCRIPTION:
URL:https://www.samhilla2.com/event/brunch-2/2026-05-02/
LOCATION:Sam Hill\, 5827 Jackson\, Ann Arbor\, MI\, 48103\, United States
END:VEVENT
BEGIN:VEVENT
DTSTART;TZID=America/New_York:20260503T110000
DTEND;TZID=America/New_York:20260503T150000
DTSTAMP:20260422T174146
CREATED:20251106T202241Z
LAST-MODIFIED:20251106T202314Z
UID:10000599-1777806000-1777820400@www.samhilla2.com
SUMMARY:Brunch
DESCRIPTION:
URL:https://www.samhilla2.com/event/brunch/2026-05-03/
LOCATION:Sam Hill\, 5827 Jackson\, Ann Arbor\, MI\, 48103\, United States
END:VEVENT
BEGIN:VEVENT
DTSTART;TZID=America/New_York:20260504T110000
DTEND;TZID=America/New_York:20260504T210000
DTSTAMP:20260422T174146
CREATED:20251216T050830Z
LAST-MODIFIED:20251216T050830Z
UID:10004289-1777892400-1777928400@www.samhilla2.com
SUMMARY:Kids Eat 50% Off
DESCRIPTION:With purchase of an adult meal
URL:https://www.samhilla2.com/event/kids-eat-50-off/2026-05-04/
LOCATION:Sam Hill\, 5827 Jackson\, Ann Arbor\, MI\, 48103\, United States
END:VEVENT
BEGIN:VEVENT
DTSTART;TZID=America/New_York:20260504T150000
DTEND;TZID=America/New_York:20260504T180000
DTSTAMP:20260422T174146
CREATED:20251216T050459Z
LAST-MODIFIED:20251216T050507Z
UID:10002763-1777906800-1777917600@www.samhilla2.com
SUMMARY:Happy Hour
DESCRIPTION:
URL:https://www.samhilla2.com/event/happy-hour-2/2026-05-04/
LOCATION:Sam Hill\, 5827 Jackson\, Ann Arbor\, MI\, 48103\, United States
END:VEVENT
BEGIN:VEVENT
DTSTART;TZID=America/New_York:20260505T150000
DTEND;TZID=America/New_York:20260505T180000
DTSTAMP:20260422T174146
CREATED:20251216T050459Z
LAST-MODIFIED:20251216T050507Z
UID:10001482-1777993200-1778004000@www.samhilla2.com
SUMMARY:Happy Hour
DESCRIPTION:
URL:https://www.samhilla2.com/event/happy-hour-2/2026-05-05/
LOCATION:Sam Hill\, 5827 Jackson\, Ann Arbor\, MI\, 48103\, United States
END:VEVENT
BEGIN:VEVENT
DTSTART;TZID=America/New_York:20260505T180000
DTEND;TZID=America/New_York:20260505T200000
DTSTAMP:20260422T174146
CREATED:20251106T201422Z
LAST-MODIFIED:20251106T202414Z
UID:10000077-1778004000-1778011200@www.samhilla2.com
SUMMARY:Trivia Tuesday
DESCRIPTION:Hosted by Kenny Privett Productions \nThink you’re the smartest in the room? Prove it.  \nJoin the fun every Tuesday for brain-busting trivia\, delicious food\, and the shot at winning gift card prizes (and bragging rights).  \nBring your friends\, your appetite\, and your best guesses—because Kenny will stump you!
URL:https://www.samhilla2.com/event/trivia-tuesday/2026-05-05/
LOCATION:Sam Hill\, 5827 Jackson\, Ann Arbor\, MI\, 48103\, United States
END:VEVENT
BEGIN:VEVENT
DTSTART;TZID=America/New_York:20260507T110000
DTEND;TZID=America/New_York:20260507T210000
DTSTAMP:20260422T174146
CREATED:20251216T051047Z
LAST-MODIFIED:20251216T051047Z
UID:10004551-1778151600-1778187600@www.samhilla2.com
SUMMARY:$4 House Pints
DESCRIPTION:All Wolverine & Slow Coast drafts
URL:https://www.samhilla2.com/event/4-house-pints/2026-05-07/
LOCATION:Sam Hill\, 5827 Jackson\, Ann Arbor\, MI\, 48103\, United States
END:VEVENT
BEGIN:VEVENT
DTSTART;TZID=America/New_York:20260507T150000
DTEND;TZID=America/New_York:20260507T180000
DTSTAMP:20260422T174146
CREATED:20251216T050459Z
LAST-MODIFIED:20251216T050507Z
UID:10002764-1778166000-1778176800@www.samhilla2.com
SUMMARY:Happy Hour
DESCRIPTION:
URL:https://www.samhilla2.com/event/happy-hour-2/2026-05-07/
LOCATION:Sam Hill\, 5827 Jackson\, Ann Arbor\, MI\, 48103\, United States
END:VEVENT
BEGIN:VEVENT
DTSTART;TZID=America/New_York:20260508T150000
DTEND;TZID=America/New_York:20260508T180000
DTSTAMP:20260422T174146
CREATED:20251216T050459Z
LAST-MODIFIED:20251216T050507Z
UID:10002765-1778252400-1778263200@www.samhilla2.com
SUMMARY:Happy Hour
DESCRIPTION:
URL:https://www.samhilla2.com/event/happy-hour-2/2026-05-08/
LOCATION:Sam Hill\, 5827 Jackson\, Ann Arbor\, MI\, 48103\, United States
END:VEVENT
BEGIN:VEVENT
DTSTART;TZID=America/New_York:20260509T110000
DTEND;TZID=America/New_York:20260509T150000
DTSTAMP:20260422T174146
CREATED:20251106T202438Z
LAST-MODIFIED:20251106T202438Z
UID:10001122-1778324400-1778338800@www.samhilla2.com
SUMMARY:Brunch
DESCRIPTION:
URL:https://www.samhilla2.com/event/brunch-2/2026-05-09/
LOCATION:Sam Hill\, 5827 Jackson\, Ann Arbor\, MI\, 48103\, United States
END:VEVENT
BEGIN:VEVENT
DTSTART;TZID=America/New_York:20260510T110000
DTEND;TZID=America/New_York:20260510T150000
DTSTAMP:20260422T174146
CREATED:20251106T202241Z
LAST-MODIFIED:20251106T202314Z
UID:10000600-1778410800-1778425200@www.samhilla2.com
SUMMARY:Brunch
DESCRIPTION:
URL:https://www.samhilla2.com/event/brunch/2026-05-10/
LOCATION:Sam Hill\, 5827 Jackson\, Ann Arbor\, MI\, 48103\, United States
END:VEVENT
BEGIN:VEVENT
DTSTART;TZID=America/New_York:20260511T110000
DTEND;TZID=America/New_York:20260511T210000
DTSTAMP:20260422T174146
CREATED:20251216T050830Z
LAST-MODIFIED:20251216T050830Z
UID:10004290-1778497200-1778533200@www.samhilla2.com
SUMMARY:Kids Eat 50% Off
DESCRIPTION:With purchase of an adult meal
URL:https://www.samhilla2.com/event/kids-eat-50-off/2026-05-11/
LOCATION:Sam Hill\, 5827 Jackson\, Ann Arbor\, MI\, 48103\, United States
END:VEVENT
BEGIN:VEVENT
DTSTART;TZID=America/New_York:20260511T150000
DTEND;TZID=America/New_York:20260511T180000
DTSTAMP:20260422T174146
CREATED:20251216T050459Z
LAST-MODIFIED:20251216T050507Z
UID:10002766-1778511600-1778522400@www.samhilla2.com
SUMMARY:Happy Hour
DESCRIPTION:
URL:https://www.samhilla2.com/event/happy-hour-2/2026-05-11/
LOCATION:Sam Hill\, 5827 Jackson\, Ann Arbor\, MI\, 48103\, United States
END:VEVENT
BEGIN:VEVENT
DTSTART;TZID=America/New_York:20260512T150000
DTEND;TZID=America/New_York:20260512T180000
DTSTAMP:20260422T174146
CREATED:20251216T050459Z
LAST-MODIFIED:20251216T050507Z
UID:10001487-1778598000-1778608800@www.samhilla2.com
SUMMARY:Happy Hour
DESCRIPTION:
URL:https://www.samhilla2.com/event/happy-hour-2/2026-05-12/
LOCATION:Sam Hill\, 5827 Jackson\, Ann Arbor\, MI\, 48103\, United States
END:VEVENT
BEGIN:VEVENT
DTSTART;TZID=America/New_York:20260512T180000
DTEND;TZID=America/New_York:20260512T200000
DTSTAMP:20260422T174146
CREATED:20251106T201422Z
LAST-MODIFIED:20251106T202414Z
UID:10000078-1778608800-1778616000@www.samhilla2.com
SUMMARY:Trivia Tuesday
DESCRIPTION:Hosted by Kenny Privett Productions \nThink you’re the smartest in the room? Prove it.  \nJoin the fun every Tuesday for brain-busting trivia\, delicious food\, and the shot at winning gift card prizes (and bragging rights).  \nBring your friends\, your appetite\, and your best guesses—because Kenny will stump you!
URL:https://www.samhilla2.com/event/trivia-tuesday/2026-05-12/
LOCATION:Sam Hill\, 5827 Jackson\, Ann Arbor\, MI\, 48103\, United States
END:VEVENT
BEGIN:VEVENT
DTSTART;TZID=America/New_York:20260514T110000
DTEND;TZID=America/New_York:20260514T210000
DTSTAMP:20260422T174146
CREATED:20251216T051047Z
LAST-MODIFIED:20251216T051047Z
UID:10004552-1778756400-1778792400@www.samhilla2.com
SUMMARY:$4 House Pints
DESCRIPTION:All Wolverine & Slow Coast drafts
URL:https://www.samhilla2.com/event/4-house-pints/2026-05-14/
LOCATION:Sam Hill\, 5827 Jackson\, Ann Arbor\, MI\, 48103\, United States
END:VEVENT
BEGIN:VEVENT
DTSTART;TZID=America/New_York:20260514T150000
DTEND;TZID=America/New_York:20260514T180000
DTSTAMP:20260422T174146
CREATED:20251216T050459Z
LAST-MODIFIED:20251216T050507Z
UID:10002767-1778770800-1778781600@www.samhilla2.com
SUMMARY:Happy Hour
DESCRIPTION:
URL:https://www.samhilla2.com/event/happy-hour-2/2026-05-14/
LOCATION:Sam Hill\, 5827 Jackson\, Ann Arbor\, MI\, 48103\, United States
END:VEVENT
BEGIN:VEVENT
DTSTART;TZID=America/New_York:20260515T150000
DTEND;TZID=America/New_York:20260515T180000
DTSTAMP:20260422T174146
CREATED:20251216T050459Z
LAST-MODIFIED:20251216T050507Z
UID:10002768-1778857200-1778868000@www.samhilla2.com
SUMMARY:Happy Hour
DESCRIPTION:
URL:https://www.samhilla2.com/event/happy-hour-2/2026-05-15/
LOCATION:Sam Hill\, 5827 Jackson\, Ann Arbor\, MI\, 48103\, United States
END:VEVENT
BEGIN:VEVENT
DTSTART;TZID=America/New_York:20260516T110000
DTEND;TZID=America/New_York:20260516T150000
DTSTAMP:20260422T174146
CREATED:20251106T202438Z
LAST-MODIFIED:20251106T202438Z
UID:10001123-1778929200-1778943600@www.samhilla2.com
SUMMARY:Brunch
DESCRIPTION:
URL:https://www.samhilla2.com/event/brunch-2/2026-05-16/
LOCATION:Sam Hill\, 5827 Jackson\, Ann Arbor\, MI\, 48103\, United States
END:VEVENT
BEGIN:VEVENT
DTSTART;TZID=America/New_York:20260517T110000
DTEND;TZID=America/New_York:20260517T150000
DTSTAMP:20260422T174146
CREATED:20251106T202241Z
LAST-MODIFIED:20251106T202314Z
UID:10000601-1779015600-1779030000@www.samhilla2.com
SUMMARY:Brunch
DESCRIPTION:
URL:https://www.samhilla2.com/event/brunch/2026-05-17/
LOCATION:Sam Hill\, 5827 Jackson\, Ann Arbor\, MI\, 48103\, United States
END:VEVENT
BEGIN:VEVENT
DTSTART;TZID=America/New_York:20260518T110000
DTEND;TZID=America/New_York:20260518T210000
DTSTAMP:20260422T174146
CREATED:20251216T050830Z
LAST-MODIFIED:20251216T050830Z
UID:10004291-1779102000-1779138000@www.samhilla2.com
SUMMARY:Kids Eat 50% Off
DESCRIPTION:With purchase of an adult meal
URL:https://www.samhilla2.com/event/kids-eat-50-off/2026-05-18/
LOCATION:Sam Hill\, 5827 Jackson\, Ann Arbor\, MI\, 48103\, United States
END:VEVENT
BEGIN:VEVENT
DTSTART;TZID=America/New_York:20260518T150000
DTEND;TZID=America/New_York:20260518T180000
DTSTAMP:20260422T174146
CREATED:20251216T050459Z
LAST-MODIFIED:20251216T050507Z
UID:10002769-1779116400-1779127200@www.samhilla2.com
SUMMARY:Happy Hour
DESCRIPTION:
URL:https://www.samhilla2.com/event/happy-hour-2/2026-05-18/
LOCATION:Sam Hill\, 5827 Jackson\, Ann Arbor\, MI\, 48103\, United States
END:VEVENT
BEGIN:VEVENT
DTSTART;TZID=America/New_York:20260519T150000
DTEND;TZID=America/New_York:20260519T180000
DTSTAMP:20260422T174146
CREATED:20251216T050459Z
LAST-MODIFIED:20251216T050507Z
UID:10001492-1779202800-1779213600@www.samhilla2.com
SUMMARY:Happy Hour
DESCRIPTION:
URL:https://www.samhilla2.com/event/happy-hour-2/2026-05-19/
LOCATION:Sam Hill\, 5827 Jackson\, Ann Arbor\, MI\, 48103\, United States
END:VEVENT
BEGIN:VEVENT
DTSTART;TZID=America/New_York:20260519T180000
DTEND;TZID=America/New_York:20260519T200000
DTSTAMP:20260422T174146
CREATED:20251106T201422Z
LAST-MODIFIED:20251106T202414Z
UID:10000079-1779213600-1779220800@www.samhilla2.com
SUMMARY:Trivia Tuesday
DESCRIPTION:Hosted by Kenny Privett Productions \nThink you’re the smartest in the room? Prove it.  \nJoin the fun every Tuesday for brain-busting trivia\, delicious food\, and the shot at winning gift card prizes (and bragging rights).  \nBring your friends\, your appetite\, and your best guesses—because Kenny will stump you!
URL:https://www.samhilla2.com/event/trivia-tuesday/2026-05-19/
LOCATION:Sam Hill\, 5827 Jackson\, Ann Arbor\, MI\, 48103\, United States
END:VEVENT
BEGIN:VEVENT
DTSTART;TZID=America/New_York:20260521T110000
DTEND;TZID=America/New_York:20260521T210000
DTSTAMP:20260422T174146
CREATED:20251216T051047Z
LAST-MODIFIED:20251216T051047Z
UID:10004553-1779361200-1779397200@www.samhilla2.com
SUMMARY:$4 House Pints
DESCRIPTION:All Wolverine & Slow Coast drafts
URL:https://www.samhilla2.com/event/4-house-pints/2026-05-21/
LOCATION:Sam Hill\, 5827 Jackson\, Ann Arbor\, MI\, 48103\, United States
END:VEVENT
BEGIN:VEVENT
DTSTART;TZID=America/New_York:20260521T150000
DTEND;TZID=America/New_York:20260521T180000
DTSTAMP:20260422T174146
CREATED:20251216T050459Z
LAST-MODIFIED:20251216T050507Z
UID:10002770-1779375600-1779386400@www.samhilla2.com
SUMMARY:Happy Hour
DESCRIPTION:
URL:https://www.samhilla2.com/event/happy-hour-2/2026-05-21/
LOCATION:Sam Hill\, 5827 Jackson\, Ann Arbor\, MI\, 48103\, United States
END:VEVENT
BEGIN:VEVENT
DTSTART;TZID=America/New_York:20260522T150000
DTEND;TZID=America/New_York:20260522T180000
DTSTAMP:20260422T174146
CREATED:20251216T050459Z
LAST-MODIFIED:20251216T050507Z
UID:10002771-1779462000-1779472800@www.samhilla2.com
SUMMARY:Happy Hour
DESCRIPTION:
URL:https://www.samhilla2.com/event/happy-hour-2/2026-05-22/
LOCATION:Sam Hill\, 5827 Jackson\, Ann Arbor\, MI\, 48103\, United States
END:VEVENT
BEGIN:VEVENT
DTSTART;TZID=America/New_York:20260523T110000
DTEND;TZID=America/New_York:20260523T150000
DTSTAMP:20260422T174146
CREATED:20251106T202438Z
LAST-MODIFIED:20251106T202438Z
UID:10001124-1779534000-1779548400@www.samhilla2.com
SUMMARY:Brunch
DESCRIPTION:
URL:https://www.samhilla2.com/event/brunch-2/2026-05-23/
LOCATION:Sam Hill\, 5827 Jackson\, Ann Arbor\, MI\, 48103\, United States
END:VEVENT
END:VCALENDAR