BEGIN:VCALENDAR
VERSION:2.0
PRODID:-//Sam Hill - ECPv6.15.20//NONSGML v1.0//EN
CALSCALE:GREGORIAN
METHOD:PUBLISH
X-WR-CALNAME:Sam Hill
X-ORIGINAL-URL:https://www.samhilla2.com
X-WR-CALDESC:Events for Sam Hill
REFRESH-INTERVAL;VALUE=DURATION:PT1H
X-Robots-Tag:noindex
X-PUBLISHED-TTL:PT1H
BEGIN:VTIMEZONE
TZID:America/New_York
BEGIN:DAYLIGHT
TZOFFSETFROM:-0500
TZOFFSETTO:-0400
TZNAME:EDT
DTSTART:20250309T070000
END:DAYLIGHT
BEGIN:STANDARD
TZOFFSETFROM:-0400
TZOFFSETTO:-0500
TZNAME:EST
DTSTART:20251102T060000
END:STANDARD
BEGIN:DAYLIGHT
TZOFFSETFROM:-0500
TZOFFSETTO:-0400
TZNAME:EDT
DTSTART:20260308T070000
END:DAYLIGHT
BEGIN:STANDARD
TZOFFSETFROM:-0400
TZOFFSETTO:-0500
TZNAME:EST
DTSTART:20261101T060000
END:STANDARD
BEGIN:DAYLIGHT
TZOFFSETFROM:-0500
TZOFFSETTO:-0400
TZNAME:EDT
DTSTART:20270314T070000
END:DAYLIGHT
BEGIN:STANDARD
TZOFFSETFROM:-0400
TZOFFSETTO:-0500
TZNAME:EST
DTSTART:20271107T060000
END:STANDARD
END:VTIMEZONE
BEGIN:VEVENT
DTSTART;TZID=America/New_York:20260505T150000
DTEND;TZID=America/New_York:20260505T180000
DTSTAMP:20260423T073227
CREATED:20251216T050459Z
LAST-MODIFIED:20251216T050507Z
UID:10001482-1777993200-1778004000@www.samhilla2.com
SUMMARY:Happy Hour
DESCRIPTION:
URL:https://www.samhilla2.com/event/happy-hour-2/2026-05-05/
LOCATION:Sam Hill\, 5827 Jackson\, Ann Arbor\, MI\, 48103\, United States
END:VEVENT
BEGIN:VEVENT
DTSTART;TZID=America/New_York:20260505T180000
DTEND;TZID=America/New_York:20260505T200000
DTSTAMP:20260423T073227
CREATED:20251106T201422Z
LAST-MODIFIED:20251106T202414Z
UID:10000077-1778004000-1778011200@www.samhilla2.com
SUMMARY:Trivia Tuesday
DESCRIPTION:Hosted by Kenny Privett Productions \nThink you’re the smartest in the room? Prove it.  \nJoin the fun every Tuesday for brain-busting trivia\, delicious food\, and the shot at winning gift card prizes (and bragging rights).  \nBring your friends\, your appetite\, and your best guesses—because Kenny will stump you!
URL:https://www.samhilla2.com/event/trivia-tuesday/2026-05-05/
LOCATION:Sam Hill\, 5827 Jackson\, Ann Arbor\, MI\, 48103\, United States
END:VEVENT
END:VCALENDAR